BEGIN:VCALENDAR
VERSION:2.0
PRODID:-//Monkey Business Institute - ECPv6.15.20//NONSGML v1.0//EN
CALSCALE:GREGORIAN
METHOD:PUBLISH
X-WR-CALNAME:Monkey Business Institute
X-ORIGINAL-URL:https://monkeybusinessinstitute.com
X-WR-CALDESC:Events for Monkey Business Institute
REFRESH-INTERVAL;VALUE=DURATION:PT1H
X-Robots-Tag:noindex
X-PUBLISHED-TTL:PT1H
BEGIN:VTIMEZONE
TZID:America/Chicago
BEGIN:DAYLIGHT
TZOFFSETFROM:-0600
TZOFFSETTO:-0500
TZNAME:CDT
DTSTART:20230312T080000
END:DAYLIGHT
BEGIN:STANDARD
TZOFFSETFROM:-0500
TZOFFSETTO:-0600
TZNAME:CST
DTSTART:20231105T070000
END:STANDARD
BEGIN:DAYLIGHT
TZOFFSETFROM:-0600
TZOFFSETTO:-0500
TZNAME:CDT
DTSTART:20240310T080000
END:DAYLIGHT
BEGIN:STANDARD
TZOFFSETFROM:-0500
TZOFFSETTO:-0600
TZNAME:CST
DTSTART:20241103T070000
END:STANDARD
BEGIN:DAYLIGHT
TZOFFSETFROM:-0600
TZOFFSETTO:-0500
TZNAME:CDT
DTSTART:20250309T080000
END:DAYLIGHT
BEGIN:STANDARD
TZOFFSETFROM:-0500
TZOFFSETTO:-0600
TZNAME:CST
DTSTART:20251102T070000
END:STANDARD
END:VTIMEZONE
BEGIN:VEVENT
DTSTART;TZID=America/Chicago:20241113T193000
DTEND;TZID=America/Chicago:20241113T193000
DTSTAMP:20260424T225314
CREATED:20241017T010321Z
LAST-MODIFIED:20241017T010321Z
UID:10000634-1731526200-1731526200@monkeybusinessinstitute.com
SUMMARY:Level Two Class Show [FALL 2024]
DESCRIPTION:Our Level Two class jumps into the fray and performs for you! They’ve learned some brand-new improv games and techniques which are guaranteed to be a blast. \nFeaturing:  \nAlex Gravatt\nGeordi Haerr-Hartmann\nHannah Kass\nDaniel Melanz\nSteven Nelms\nJohn Roth\nAaron Steuck\nLaura Sweeney\nJoelle Taft\nJesse Theiler\nBrian Thometz\nDavid Thrall \nSeating at 6:45pm\, Show at 7:30pm. \nMany of our performance areas are small spaces with little air circulation. If you have any COVID or flu symptoms\, or test positive\, please stay home to keep others safe. Just notify us of the situation\, and we’ll be happy to refund you the tickets. \nContact info@monkeybusinessinstitute.com for any questions.
URL:https://monkeybusinessinstitute.com/event/level-two-class-show-fall-2024/
LOCATION:Broom Street Theater\, 1119 Williamson St\, Madison\, WI\, 53703\, United States
CATEGORIES:Shows,Shows
ATTACH;FMTTYPE=image/jpeg:https://monkeybusinessinstitute.com/wp-content/uploads/2022/02/Class-Performances-2.jpg
END:VEVENT
END:VCALENDAR