BEGIN:VCALENDAR
VERSION:2.0
PRODID:-//Monkey Business Institute - ECPv6.15.20//NONSGML v1.0//EN
CALSCALE:GREGORIAN
METHOD:PUBLISH
X-ORIGINAL-URL:https://monkeybusinessinstitute.com
X-WR-CALDESC:Events for Monkey Business Institute
REFRESH-INTERVAL;VALUE=DURATION:PT1H
X-Robots-Tag:noindex
X-PUBLISHED-TTL:PT1H
BEGIN:VTIMEZONE
TZID:America/Chicago
BEGIN:DAYLIGHT
TZOFFSETFROM:-0600
TZOFFSETTO:-0500
TZNAME:CDT
DTSTART:20230312T080000
END:DAYLIGHT
BEGIN:STANDARD
TZOFFSETFROM:-0500
TZOFFSETTO:-0600
TZNAME:CST
DTSTART:20231105T070000
END:STANDARD
BEGIN:DAYLIGHT
TZOFFSETFROM:-0600
TZOFFSETTO:-0500
TZNAME:CDT
DTSTART:20240310T080000
END:DAYLIGHT
BEGIN:STANDARD
TZOFFSETFROM:-0500
TZOFFSETTO:-0600
TZNAME:CST
DTSTART:20241103T070000
END:STANDARD
BEGIN:DAYLIGHT
TZOFFSETFROM:-0600
TZOFFSETTO:-0500
TZNAME:CDT
DTSTART:20250309T080000
END:DAYLIGHT
BEGIN:STANDARD
TZOFFSETFROM:-0500
TZOFFSETTO:-0600
TZNAME:CST
DTSTART:20251102T070000
END:STANDARD
END:VTIMEZONE
BEGIN:VEVENT
DTSTART;TZID=America/Chicago:20241205T203000
DTEND;TZID=America/Chicago:20241205T203000
DTSTAMP:20260421T070847
CREATED:20241204T041425Z
LAST-MODIFIED:20241204T041503Z
UID:10000655-1733430600-1733430600@monkeybusinessinstitute.com
SUMMARY:The Merge @ Gamma Ray Bar
DESCRIPTION:Where Improv Meets Standup! Improv + Standup = Comedy Magic \nStand-up and improv comedy are longtime rivals\, but they have more in common with each other than practitioners from either side would like to admit. “The Merge” blends quick-witted club stand-up comedians with Monkey Business Institute’s cast of professional improvisers to create a show that gives comedy aficionados the best of both worlds. \nSpecial guests are Lizzie Kirch and Owen Joyner. \nShow starts at 8:30pm. \n@ Gamma Ray Bar \nPURCHASE TICKETS HERE WHEN THEY BECOME AVAILABLE OR AT THE DOOR: https://gammaray.bar/shows/
URL:https://monkeybusinessinstitute.com/event/the-merge-dec-5/
LOCATION:Gamma Ray Bar\, 121 W Main St\, Madison\, WI\, 53703\, United States
CATEGORIES:Shows,Shows
ATTACH;FMTTYPE=image/jpeg:https://monkeybusinessinstitute.com/wp-content/uploads/2024/12/decembermerge.jpg
END:VEVENT
BEGIN:VEVENT
DTSTART;TZID=America/Chicago:20241207T173000
DTEND;TZID=America/Chicago:20241207T183000
DTSTAMP:20260421T070847
CREATED:20241108T070041Z
LAST-MODIFIED:20241108T070041Z
UID:10000639-1733592600-1733596200@monkeybusinessinstitute.com
SUMMARY:All Ages Improv Show @ Glass Nickel Pizza Co!
DESCRIPTION:Improv for all ages! This one-hour show is packed with fast-paced\, classic\, short-form improv comedy! Audience participation is guaranteed and the content is appropriate for kids\, as well as grown-ups who appreciate smart\, clean comedy. \nShow starts at 5:30pm\, doors open at 4:45pm. \nWe’re cleaning up the basement… no more buffet!  Still want pizza with your improv? Your MBI ticket gets you 10% off the Glass Nickel menu when you eat in the upstairs dining room (before the All Ages or after the Grown Up Show).\nA specialized bar menu is available in the GN Basement during the show for bevvies\, sodas\, beer and cocktails for an additional fee. There is a 1 drink minimum for each attendee: please note that mocktails\, sodas\, or bottled water are options. \nMany of our performance areas are small spaces with little air circulation. If you have any COVID or flu symptoms\, or test positive\, please stay home to keep others safe. Just notify us of the situation\, and we’ll be happy to refund you the tickets. \nContact info@monkeybusinessinstitute.com for any questions.
URL:https://monkeybusinessinstitute.com/event/all-ages-december-7/
LOCATION:Glass Nickel Pizza Co.\, 2916 Atwood Ave\, Madison\, 53704
CATEGORIES:Shows,Shows
ATTACH;FMTTYPE=image/jpeg:https://monkeybusinessinstitute.com/wp-content/uploads/2021/12/All-Ages-3.jpg
END:VEVENT
BEGIN:VEVENT
DTSTART;TZID=America/Chicago:20241207T200000
DTEND;TZID=America/Chicago:20241207T200000
DTSTAMP:20260421T070847
CREATED:20241108T070159Z
LAST-MODIFIED:20241108T070159Z
UID:10000640-1733601600-1733601600@monkeybusinessinstitute.com
SUMMARY:Grown Up Show @ Glass Nickel Pizza Co!
DESCRIPTION:It’s a Grown Up Improv Show by Monkey Business Institute! Our Grown-Up Show features two acts of hilarious improv comedy. This show is for people who like their improv a little bit saucy\, so content is usually rated PG-13 with an occasional dip above “PG-17.” \nShow starts at 8:00pm\, doors open at 7:15pm. \nWe’re cleaning up the basement… no more buffet!  Still want pizza with your improv? Your MBI ticket gets you 10% off the Glass Nickel menu when you eat in the upstairs dining room (before the All Ages or after the Grown Up Show).\nA specialized bar menu is available in the GN Basement during the show for bevvies\, sodas\, beer and cocktails for an additional fee. There is a 1 drink minimum for each attendee: please note that mocktails\, sodas\, or bottled water are options. \nMany of our performance areas are small spaces with little air circulation. If you have any COVID or flu symptoms\, or test positive\, please stay home to keep others safe. Just notify us of the situation\, and we’ll be happy to refund you the tickets. \nContact info@monkeybusinessinstitute.com for any questions.
URL:https://monkeybusinessinstitute.com/event/grown-up-december-7/
LOCATION:Glass Nickel Pizza Co.\, 2916 Atwood Ave\, Madison\, 53704
CATEGORIES:Shows,Shows
ATTACH;FMTTYPE=image/jpeg:https://monkeybusinessinstitute.com/wp-content/uploads/2022/04/Grown-Up-Improv-Show.jpg
END:VEVENT
BEGIN:VEVENT
DTSTART;TZID=America/Chicago:20241214T173000
DTEND;TZID=America/Chicago:20241214T183000
DTSTAMP:20260421T070847
CREATED:20241108T070300Z
LAST-MODIFIED:20241214T215410Z
UID:10000641-1734197400-1734201000@monkeybusinessinstitute.com
SUMMARY:All Ages Improv Show @ Glass Nickel Pizza Co!
DESCRIPTION:Improv for all ages! This one-hour show is packed with fast-paced\, classic\, short-form improv comedy! Audience participation is guaranteed and the content is appropriate for kids\, as well as grown-ups who appreciate smart\, clean comedy. \nShow starts at 5:30pm\, doors open at 4:45pm. \nWe’re cleaning up the basement… no more buffet!  Still want pizza with your improv? Your MBI ticket gets you 10% off the Glass Nickel menu when you eat in the upstairs dining room (before the All Ages or after the Grown Up Show).\nA specialized bar menu is available in the GN Basement during the show for bevvies\, sodas\, beer and cocktails for an additional fee. There is a 1 drink minimum for each attendee: please note that mocktails\, sodas\, or bottled water are options. \nMany of our performance areas are small spaces with little air circulation. If you have any COVID or flu symptoms\, or test positive\, please stay home to keep others safe. Just notify us of the situation\, and we’ll be happy to refund you the tickets. \nContact info@monkeybusinessinstitute.com for any questions.
URL:https://monkeybusinessinstitute.com/event/all-ages-december-14/
LOCATION:Glass Nickel Pizza Co.\, 2916 Atwood Ave\, Madison\, 53704
CATEGORIES:Shows,Shows
ATTACH;FMTTYPE=image/jpeg:https://monkeybusinessinstitute.com/wp-content/uploads/2021/12/All-Ages-3.jpg
END:VEVENT
BEGIN:VEVENT
DTSTART;TZID=America/Chicago:20241214T200000
DTEND;TZID=America/Chicago:20241214T200000
DTSTAMP:20260421T070847
CREATED:20241108T070357Z
LAST-MODIFIED:20241108T070357Z
UID:10000642-1734206400-1734206400@monkeybusinessinstitute.com
SUMMARY:Grown Up Show @ Glass Nickel Pizza Co!
DESCRIPTION:It’s a Grown Up Improv Show by Monkey Business Institute! Our Grown-Up Show features two acts of hilarious improv comedy. This show is for people who like their improv a little bit saucy\, so content is usually rated PG-13 with an occasional dip above “PG-17.” \nShow starts at 8:00pm\, doors open at 7:15pm. \nWe’re cleaning up the basement… no more buffet!  Still want pizza with your improv? Your MBI ticket gets you 10% off the Glass Nickel menu when you eat in the upstairs dining room (before the All Ages or after the Grown Up Show).\nA specialized bar menu is available in the GN Basement during the show for bevvies\, sodas\, beer and cocktails for an additional fee. There is a 1 drink minimum for each attendee: please note that mocktails\, sodas\, or bottled water are options. \nMany of our performance areas are small spaces with little air circulation. If you have any COVID or flu symptoms\, or test positive\, please stay home to keep others safe. Just notify us of the situation\, and we’ll be happy to refund you the tickets. \nContact info@monkeybusinessinstitute.com for any questions.
URL:https://monkeybusinessinstitute.com/event/grown-up-december-14/
LOCATION:Glass Nickel Pizza Co.\, 2916 Atwood Ave\, Madison\, 53704
CATEGORIES:Shows,Shows
ATTACH;FMTTYPE=image/jpeg:https://monkeybusinessinstitute.com/wp-content/uploads/2022/04/Grown-Up-Improv-Show.jpg
END:VEVENT
BEGIN:VEVENT
DTSTART;TZID=America/Chicago:20241221T173000
DTEND;TZID=America/Chicago:20241221T183000
DTSTAMP:20260421T070847
CREATED:20241108T070453Z
LAST-MODIFIED:20241108T070453Z
UID:10000643-1734802200-1734805800@monkeybusinessinstitute.com
SUMMARY:All Ages Improv Show @ Glass Nickel Pizza Co!
DESCRIPTION:Improv for all ages! This one-hour show is packed with fast-paced\, classic\, short-form improv comedy! Audience participation is guaranteed and the content is appropriate for kids\, as well as grown-ups who appreciate smart\, clean comedy. \nShow starts at 5:30pm\, doors open at 4:45pm. \nWe’re cleaning up the basement… no more buffet!  Still want pizza with your improv? Your MBI ticket gets you 10% off the Glass Nickel menu when you eat in the upstairs dining room (before the All Ages or after the Grown Up Show).\nA specialized bar menu is available in the GN Basement during the show for bevvies\, sodas\, beer and cocktails for an additional fee. There is a 1 drink minimum for each attendee: please note that mocktails\, sodas\, or bottled water are options. \nMany of our performance areas are small spaces with little air circulation. If you have any COVID or flu symptoms\, or test positive\, please stay home to keep others safe. Just notify us of the situation\, and we’ll be happy to refund you the tickets. \nContact info@monkeybusinessinstitute.com for any questions.
URL:https://monkeybusinessinstitute.com/event/all-ages-december-21/
LOCATION:Glass Nickel Pizza Co.\, 2916 Atwood Ave\, Madison\, 53704
CATEGORIES:Shows,Shows
ATTACH;FMTTYPE=image/jpeg:https://monkeybusinessinstitute.com/wp-content/uploads/2021/12/All-Ages-3.jpg
END:VEVENT
BEGIN:VEVENT
DTSTART;TZID=America/Chicago:20241221T200000
DTEND;TZID=America/Chicago:20241221T200000
DTSTAMP:20260421T070847
CREATED:20241108T070540Z
LAST-MODIFIED:20241108T070540Z
UID:10000644-1734811200-1734811200@monkeybusinessinstitute.com
SUMMARY:Grown Up Show @ Glass Nickel Pizza Co!
DESCRIPTION:It’s a Grown Up Improv Show by Monkey Business Institute! Our Grown-Up Show features two acts of hilarious improv comedy. This show is for people who like their improv a little bit saucy\, so content is usually rated PG-13 with an occasional dip above “PG-17.” \nShow starts at 8:00pm\, doors open at 7:15pm. \nWe’re cleaning up the basement… no more buffet!  Still want pizza with your improv? Your MBI ticket gets you 10% off the Glass Nickel menu when you eat in the upstairs dining room (before the All Ages or after the Grown Up Show).\nA specialized bar menu is available in the GN Basement during the show for bevvies\, sodas\, beer and cocktails for an additional fee. There is a 1 drink minimum for each attendee: please note that mocktails\, sodas\, or bottled water are options. \nMany of our performance areas are small spaces with little air circulation. If you have any COVID or flu symptoms\, or test positive\, please stay home to keep others safe. Just notify us of the situation\, and we’ll be happy to refund you the tickets. \nContact info@monkeybusinessinstitute.com for any questions.
URL:https://monkeybusinessinstitute.com/event/grown-up-december-21/
LOCATION:Glass Nickel Pizza Co.\, 2916 Atwood Ave\, Madison\, 53704
CATEGORIES:Shows,Shows
ATTACH;FMTTYPE=image/jpeg:https://monkeybusinessinstitute.com/wp-content/uploads/2022/04/Grown-Up-Improv-Show.jpg
END:VEVENT
BEGIN:VEVENT
DTSTART;TZID=America/Chicago:20241228T173000
DTEND;TZID=America/Chicago:20241228T183000
DTSTAMP:20260421T070847
CREATED:20241108T070631Z
LAST-MODIFIED:20241227T211529Z
UID:10000645-1735407000-1735410600@monkeybusinessinstitute.com
SUMMARY:SOLD OUT - All Ages Improv Show @ Glass Nickel Pizza Co!
DESCRIPTION:This show is sold out.\n  \nImprov for all ages! This one-hour show is packed with fast-paced\, classic\, short-form improv comedy! Audience participation is guaranteed and the content is appropriate for kids\, as well as grown-ups who appreciate smart\, clean comedy. \nShow starts at 5:30pm\, doors open at 4:45pm. \nWe’re cleaning up the basement… no more buffet!  Still want pizza with your improv? Your MBI ticket gets you 10% off the Glass Nickel menu when you eat in the upstairs dining room (before the All Ages or after the Grown Up Show).\nA specialized bar menu is available in the GN Basement during the show for bevvies\, sodas\, beer and cocktails for an additional fee. There is a 1 drink minimum for each attendee: please note that mocktails\, sodas\, or bottled water are options. \nMany of our performance areas are small spaces with little air circulation. If you have any COVID or flu symptoms\, or test positive\, please stay home to keep others safe. Just notify us of the situation\, and we’ll be happy to refund you the tickets. \nContact info@monkeybusinessinstitute.com for any questions.
URL:https://monkeybusinessinstitute.com/event/all-ages-december-28/
LOCATION:Glass Nickel Pizza Co.\, 2916 Atwood Ave\, Madison\, 53704
CATEGORIES:Shows,Shows
ATTACH;FMTTYPE=image/jpeg:https://monkeybusinessinstitute.com/wp-content/uploads/2021/12/All-Ages-3.jpg
END:VEVENT
BEGIN:VEVENT
DTSTART;TZID=America/Chicago:20241228T200000
DTEND;TZID=America/Chicago:20241228T200000
DTSTAMP:20260421T070847
CREATED:20241108T070736Z
LAST-MODIFIED:20241108T070736Z
UID:10000646-1735416000-1735416000@monkeybusinessinstitute.com
SUMMARY:Grown Up Show @ Glass Nickel Pizza Co!
DESCRIPTION:It’s a Grown Up Improv Show by Monkey Business Institute! Our Grown-Up Show features two acts of hilarious improv comedy. This show is for people who like their improv a little bit saucy\, so content is usually rated PG-13 with an occasional dip above “PG-17.” \nShow starts at 8:00pm\, doors open at 7:15pm. \nWe’re cleaning up the basement… no more buffet!  Still want pizza with your improv? Your MBI ticket gets you 10% off the Glass Nickel menu when you eat in the upstairs dining room (before the All Ages or after the Grown Up Show).\nA specialized bar menu is available in the GN Basement during the show for bevvies\, sodas\, beer and cocktails for an additional fee. There is a 1 drink minimum for each attendee: please note that mocktails\, sodas\, or bottled water are options. \nMany of our performance areas are small spaces with little air circulation. If you have any COVID or flu symptoms\, or test positive\, please stay home to keep others safe. Just notify us of the situation\, and we’ll be happy to refund you the tickets. \nContact info@monkeybusinessinstitute.com for any questions.
URL:https://monkeybusinessinstitute.com/event/grown-up-december-28/
LOCATION:Glass Nickel Pizza Co.\, 2916 Atwood Ave\, Madison\, 53704
CATEGORIES:Shows,Shows
ATTACH;FMTTYPE=image/jpeg:https://monkeybusinessinstitute.com/wp-content/uploads/2022/04/Grown-Up-Improv-Show.jpg
END:VEVENT
END:VCALENDAR