BEGIN:VCALENDAR
VERSION:2.0
PRODID:-//Monkey Business Institute - ECPv6.15.20//NONSGML v1.0//EN
CALSCALE:GREGORIAN
METHOD:PUBLISH
X-WR-CALNAME:Monkey Business Institute
X-ORIGINAL-URL:https://monkeybusinessinstitute.com
X-WR-CALDESC:Events for Monkey Business Institute
REFRESH-INTERVAL;VALUE=DURATION:PT1H
X-Robots-Tag:noindex
X-PUBLISHED-TTL:PT1H
BEGIN:VTIMEZONE
TZID:America/Chicago
BEGIN:DAYLIGHT
TZOFFSETFROM:-0600
TZOFFSETTO:-0500
TZNAME:CDT
DTSTART:20240310T080000
END:DAYLIGHT
BEGIN:STANDARD
TZOFFSETFROM:-0500
TZOFFSETTO:-0600
TZNAME:CST
DTSTART:20241103T070000
END:STANDARD
BEGIN:DAYLIGHT
TZOFFSETFROM:-0600
TZOFFSETTO:-0500
TZNAME:CDT
DTSTART:20250309T080000
END:DAYLIGHT
BEGIN:STANDARD
TZOFFSETFROM:-0500
TZOFFSETTO:-0600
TZNAME:CST
DTSTART:20251102T070000
END:STANDARD
BEGIN:DAYLIGHT
TZOFFSETFROM:-0600
TZOFFSETTO:-0500
TZNAME:CDT
DTSTART:20260308T080000
END:DAYLIGHT
BEGIN:STANDARD
TZOFFSETFROM:-0500
TZOFFSETTO:-0600
TZNAME:CST
DTSTART:20261101T070000
END:STANDARD
END:VTIMEZONE
BEGIN:VEVENT
DTSTART;TZID=America/Chicago:20251205T190000
DTEND;TZID=America/Chicago:20251205T190000
DTSTAMP:20260425T112909
CREATED:20250823T042744Z
LAST-MODIFIED:20251114T065741Z
UID:10000751-1764961200-1764961200@monkeybusinessinstitute.com
SUMMARY:The Music Department @ Muso
DESCRIPTION:Monkey Business Institute is proud to present The Music Department\, a fully improvised Broadway musical!  We start with your suggestion and go from there. Look for big musical numbers\, crazy characters\, and outrageous dancing! \nShow starts at 7pm.\nDoors open at 6:15pm.\nPrice: $15 \n@Muso Madison \nContact info@monkeybusinessinstitute.com for any questions.
URL:https://monkeybusinessinstitute.com/event/music-department-muso-dec-5/
LOCATION:Muso\, 2040 Winnebago St\, Madison\, 53704\, United States
CATEGORIES:Shows,Shows
ATTACH;FMTTYPE=image/jpeg:https://monkeybusinessinstitute.com/wp-content/uploads/2022/08/The-Music-Dept-4-1.jpg
END:VEVENT
BEGIN:VEVENT
DTSTART;TZID=America/Chicago:20251206T173000
DTEND;TZID=America/Chicago:20251206T183000
DTSTAMP:20260425T112909
CREATED:20251107T163351Z
LAST-MODIFIED:20251107T163351Z
UID:10000781-1765042200-1765045800@monkeybusinessinstitute.com
SUMMARY:All Ages Improv Show @ Glass Nickel Pizza Co!
DESCRIPTION:Improv for all ages! This one-hour show is packed with fast-paced\, classic\, short-form improv comedy! Audience participation is guaranteed and the content is appropriate for kids\, as well as grown-ups who appreciate smart\, clean comedy. \nShow starts at 5:30pm\, doors open at 4:45pm. \nWe’re cleaning up the basement… no more buffet!  Still want pizza with your improv? Your MBI ticket gets you 10% off the Glass Nickel menu when you eat in the upstairs dining room (before the All Ages or after the Grown Up Show).\nA specialized bar menu is available in the GN Basement during the show for bevvies\, sodas\, beer and cocktails for an additional fee. There is a 1 drink minimum for each attendee: please note that mocktails\, sodas\, or bottled water are options. \nMany of our performance areas are small spaces with little air circulation. If you’re sick and feel you might be contagious\, please stay home to keep others safe. Just notify us of the situation\, and we’ll be happy to refund you the tickets. \nContact info@monkeybusinessinstitute.com for any questions.
URL:https://monkeybusinessinstitute.com/event/all-ages-dec-6/
LOCATION:Glass Nickel Pizza Co.\, 2916 Atwood Ave\, Madison\, 53704
CATEGORIES:Shows,Shows
ATTACH;FMTTYPE=image/jpeg:https://monkeybusinessinstitute.com/wp-content/uploads/2021/12/All-Ages-3.jpg
END:VEVENT
BEGIN:VEVENT
DTSTART;TZID=America/Chicago:20251206T200000
DTEND;TZID=America/Chicago:20251206T200000
DTSTAMP:20260425T112909
CREATED:20251107T163554Z
LAST-MODIFIED:20251107T163554Z
UID:10000780-1765051200-1765051200@monkeybusinessinstitute.com
SUMMARY:Grown Up Show @ Glass Nickel Pizza Co!
DESCRIPTION:It’s a Grown Up Improv Show by Monkey Business Institute! Our Grown-Up Show features two acts of hilarious improv comedy. This show is for people who like their improv a little bit saucy\, so content is usually rated PG-13 with an occasional dip above “PG-17.” \nShow starts at 8:00pm\, doors open at 7:15pm. \nWe’re cleaning up the basement… no more buffet!  Still want pizza with your improv? Your MBI ticket gets you 10% off the Glass Nickel menu when you eat in the upstairs dining room (before the All Ages or after the Grown Up Show).\nA specialized bar menu is available in the GN Basement during the show for bevvies\, sodas\, beer and cocktails for an additional fee. There is a 1 drink minimum for each attendee: please note that mocktails\, sodas\, or bottled water are options. \nMany of our performance areas are small spaces with little air circulation. If you’re sick and feel you might be contagious\, please stay home to keep others safe. Just notify us of the situation\, and we’ll be happy to refund you the tickets. \nContact info@monkeybusinessinstitute.com for any questions.
URL:https://monkeybusinessinstitute.com/event/grown-up-dec-6/
LOCATION:Glass Nickel Pizza Co.\, 2916 Atwood Ave\, Madison\, 53704
CATEGORIES:Shows,Shows
ATTACH;FMTTYPE=image/jpeg:https://monkeybusinessinstitute.com/wp-content/uploads/2022/04/Grown-Up-Improv-Show.jpg
END:VEVENT
BEGIN:VEVENT
DTSTART;TZID=America/Chicago:20251213T173000
DTEND;TZID=America/Chicago:20251213T183000
DTSTAMP:20260425T112909
CREATED:20251107T163718Z
LAST-MODIFIED:20251209T033212Z
UID:10000782-1765647000-1765650600@monkeybusinessinstitute.com
SUMMARY:All Ages Improv Show @ Glass Nickel Pizza Co!
DESCRIPTION:Improv for all ages! This one-hour show is packed with fast-paced\, classic\, short-form improv comedy! Audience participation is guaranteed and the content is appropriate for kids\, as well as grown-ups who appreciate smart\, clean comedy. \nShow starts at 5:30pm\, doors open at 4:45pm. \nA specialized bar menu is available in the GN Basement during the show for bevvies\, sodas\, beer and cocktails for an additional fee. There is a 1 drink minimum for each attendee: please note that mocktails\, sodas\, or bottled water are options. \nMany of our performance areas are small spaces with little air circulation. If you’re sick and feel you might be contagious\, please stay home to keep others safe. Just notify us of the situation\, and we’ll be happy to refund you the tickets. \nContact info@monkeybusinessinstitute.com for any questions.
URL:https://monkeybusinessinstitute.com/event/all-ages-dec-13/
LOCATION:Glass Nickel Pizza Co.\, 2916 Atwood Ave\, Madison\, 53704
CATEGORIES:Shows,Shows
ATTACH;FMTTYPE=image/jpeg:https://monkeybusinessinstitute.com/wp-content/uploads/2021/12/All-Ages-3.jpg
END:VEVENT
BEGIN:VEVENT
DTSTART;TZID=America/Chicago:20251213T200000
DTEND;TZID=America/Chicago:20251213T200000
DTSTAMP:20260425T112909
CREATED:20251107T163800Z
LAST-MODIFIED:20251209T033209Z
UID:10000783-1765656000-1765656000@monkeybusinessinstitute.com
SUMMARY:Grown Up Show @ Glass Nickel Pizza Co!
DESCRIPTION:It’s a Grown Up Improv Show by Monkey Business Institute! Our Grown-Up Show features two acts of hilarious improv comedy. This show is for people who like their improv a little bit saucy\, so content is usually rated PG-13 with an occasional dip above “PG-17.” \nShow starts at 8:00pm\, doors open at 7:15pm. \nA specialized bar menu is available in the GN Basement during the show for bevvies\, sodas\, beer and cocktails for an additional fee. There is a 1 drink minimum for each attendee: please note that mocktails\, sodas\, or bottled water are options. \nMany of our performance areas are small spaces with little air circulation. If you’re sick and feel you might be contagious\, please stay home to keep others safe. Just notify us of the situation\, and we’ll be happy to refund you the tickets. \nContact info@monkeybusinessinstitute.com for any questions.
URL:https://monkeybusinessinstitute.com/event/grown-up-dec-13/
LOCATION:Glass Nickel Pizza Co.\, 2916 Atwood Ave\, Madison\, 53704
CATEGORIES:Shows,Shows
ATTACH;FMTTYPE=image/jpeg:https://monkeybusinessinstitute.com/wp-content/uploads/2022/04/Grown-Up-Improv-Show.jpg
END:VEVENT
BEGIN:VEVENT
DTSTART;TZID=America/Chicago:20251220T173000
DTEND;TZID=America/Chicago:20251220T183000
DTSTAMP:20260425T112909
CREATED:20251107T164409Z
LAST-MODIFIED:20251209T033214Z
UID:10000785-1766251800-1766255400@monkeybusinessinstitute.com
SUMMARY:All Ages Improv Show @ Glass Nickel Pizza Co!
DESCRIPTION:Improv for all ages! This one-hour show is packed with fast-paced\, classic\, short-form improv comedy! Audience participation is guaranteed and the content is appropriate for kids\, as well as grown-ups who appreciate smart\, clean comedy. \nShow starts at 5:30pm\, doors open at 4:45pm. \nA specialized bar menu is available in the GN Basement during the show for bevvies\, sodas\, beer and cocktails for an additional fee. There is a 1 drink minimum for each attendee: please note that mocktails\, sodas\, or bottled water are options. \nMany of our performance areas are small spaces with little air circulation. If you’re sick and feel you might be contagious\, please stay home to keep others safe. Just notify us of the situation\, and we’ll be happy to refund you the tickets. \nContact info@monkeybusinessinstitute.com for any questions.
URL:https://monkeybusinessinstitute.com/event/all-ages-dec-20/
LOCATION:Glass Nickel Pizza Co.\, 2916 Atwood Ave\, Madison\, 53704
CATEGORIES:Shows,Shows
ATTACH;FMTTYPE=image/jpeg:https://monkeybusinessinstitute.com/wp-content/uploads/2021/12/All-Ages-3.jpg
END:VEVENT
BEGIN:VEVENT
DTSTART;TZID=America/Chicago:20251220T200000
DTEND;TZID=America/Chicago:20251220T200000
DTSTAMP:20260425T112909
CREATED:20251107T164245Z
LAST-MODIFIED:20251209T033216Z
UID:10000784-1766260800-1766260800@monkeybusinessinstitute.com
SUMMARY:Grown Up Show @ Glass Nickel Pizza Co!
DESCRIPTION:It’s a Grown Up Improv Show by Monkey Business Institute! Our Grown-Up Show features two acts of hilarious improv comedy. This show is for people who like their improv a little bit saucy\, so content is usually rated PG-13 with an occasional dip above “PG-17.” \nShow starts at 8:00pm\, doors open at 7:15pm. \nA specialized bar menu is available in the GN Basement during the show for bevvies\, sodas\, beer and cocktails for an additional fee. There is a 1 drink minimum for each attendee: please note that mocktails\, sodas\, or bottled water are options. \nMany of our performance areas are small spaces with little air circulation. If you’re sick and feel you might be contagious\, please stay home to keep others safe. Just notify us of the situation\, and we’ll be happy to refund you the tickets. \nContact info@monkeybusinessinstitute.com for any questions.
URL:https://monkeybusinessinstitute.com/event/grown-up-dec-20/
LOCATION:Glass Nickel Pizza Co.\, 2916 Atwood Ave\, Madison\, 53704
CATEGORIES:Shows,Shows
ATTACH;FMTTYPE=image/jpeg:https://monkeybusinessinstitute.com/wp-content/uploads/2022/04/Grown-Up-Improv-Show.jpg
END:VEVENT
BEGIN:VEVENT
DTSTART;TZID=America/Chicago:20251227T173000
DTEND;TZID=America/Chicago:20251227T183000
DTSTAMP:20260425T112909
CREATED:20251129T062014Z
LAST-MODIFIED:20251227T033619Z
UID:10000786-1766856600-1766860200@monkeybusinessinstitute.com
SUMMARY:(SOLD OUT) All Ages Improv Show @ Glass Nickel Pizza Co!
DESCRIPTION:This show is sold out.\n  \nImprov for all ages! This one-hour show is packed with fast-paced\, classic\, short-form improv comedy! Audience participation is guaranteed and the content is appropriate for kids\, as well as grown-ups who appreciate smart\, clean comedy. \nShow starts at 5:30pm\, doors open at 4:45pm. \nA specialized bar menu is available in the GN Basement during the show for bevvies\, sodas\, beer and cocktails for an additional fee. There is a 1 drink minimum for each attendee: please note that mocktails\, sodas\, or bottled water are options. \nMany of our performance areas are small spaces with little air circulation. If you’re sick and feel you might be contagious\, please stay home to keep others safe. Just notify us of the situation\, and we’ll be happy to refund you the tickets. \nContact info@monkeybusinessinstitute.com for any questions.
URL:https://monkeybusinessinstitute.com/event/all-ages-dec-27/
LOCATION:Glass Nickel Pizza Co.\, 2916 Atwood Ave\, Madison\, 53704
CATEGORIES:Shows,Shows
ATTACH;FMTTYPE=image/jpeg:https://monkeybusinessinstitute.com/wp-content/uploads/2021/12/All-Ages-3.jpg
END:VEVENT
BEGIN:VEVENT
DTSTART;TZID=America/Chicago:20251227T200000
DTEND;TZID=America/Chicago:20251227T200000
DTSTAMP:20260425T112909
CREATED:20251129T062015Z
LAST-MODIFIED:20251215T195823Z
UID:10000787-1766865600-1766865600@monkeybusinessinstitute.com
SUMMARY:Grown Up Show @ Glass Nickel Pizza Co!
DESCRIPTION:It’s a Grown Up Improv Show by Monkey Business Institute! Our Grown-Up Show features two acts of hilarious improv comedy. This show is for people who like their improv a little bit saucy\, so content is usually rated PG-13 with an occasional dip above “PG-17.” \nShow starts at 8:00pm\, doors open at 7:15pm. \nA specialized bar menu is available in the GN Basement during the show for bevvies\, sodas\, beer and cocktails for an additional fee. There is a 1 drink minimum for each attendee: please note that mocktails\, sodas\, or bottled water are options. \nMany of our performance areas are small spaces with little air circulation. If you’re sick and feel you might be contagious\, please stay home to keep others safe. Just notify us of the situation\, and we’ll be happy to refund you the tickets. \nContact info@monkeybusinessinstitute.com for any questions.
URL:https://monkeybusinessinstitute.com/event/grown-up-dec-27/
LOCATION:Glass Nickel Pizza Co.\, 2916 Atwood Ave\, Madison\, 53704
CATEGORIES:Shows,Shows
ATTACH;FMTTYPE=image/jpeg:https://monkeybusinessinstitute.com/wp-content/uploads/2022/04/Grown-Up-Improv-Show.jpg
END:VEVENT
END:VCALENDAR