BEGIN:VCALENDAR
VERSION:2.0
PRODID:-//Monkey Business Institute - ECPv6.15.20//NONSGML v1.0//EN
CALSCALE:GREGORIAN
METHOD:PUBLISH
X-ORIGINAL-URL:https://monkeybusinessinstitute.com
X-WR-CALDESC:Events for Monkey Business Institute
REFRESH-INTERVAL;VALUE=DURATION:PT1H
X-Robots-Tag:noindex
X-PUBLISHED-TTL:PT1H
BEGIN:VTIMEZONE
TZID:America/Chicago
BEGIN:DAYLIGHT
TZOFFSETFROM:-0600
TZOFFSETTO:-0500
TZNAME:CDT
DTSTART:20220313T080000
END:DAYLIGHT
BEGIN:STANDARD
TZOFFSETFROM:-0500
TZOFFSETTO:-0600
TZNAME:CST
DTSTART:20221106T070000
END:STANDARD
BEGIN:DAYLIGHT
TZOFFSETFROM:-0600
TZOFFSETTO:-0500
TZNAME:CDT
DTSTART:20230312T080000
END:DAYLIGHT
BEGIN:STANDARD
TZOFFSETFROM:-0500
TZOFFSETTO:-0600
TZNAME:CST
DTSTART:20231105T070000
END:STANDARD
BEGIN:DAYLIGHT
TZOFFSETFROM:-0600
TZOFFSETTO:-0500
TZNAME:CDT
DTSTART:20240310T080000
END:DAYLIGHT
BEGIN:STANDARD
TZOFFSETFROM:-0500
TZOFFSETTO:-0600
TZNAME:CST
DTSTART:20241103T070000
END:STANDARD
END:VTIMEZONE
BEGIN:VEVENT
DTSTART;TZID=America/Chicago:20230324T220000
DTEND;TZID=America/Chicago:20230324T220000
DTSTAMP:20260421T094935
CREATED:20230304T211142Z
LAST-MODIFIED:20230304T211543Z
UID:10000371-1679695200-1679695200@monkeybusinessinstitute.com
SUMMARY:Grown Up Show @ The Grateful Shed
DESCRIPTION:Come see us at The Grateful Shed in Wisconsin Dells on March 24! \nIt’s a Grown Up Improv Show by Monkey Business Institute! Our Grown-Up Show features two acts of hilarious improv comedy. This show is for people who like their improv a little bit saucy\, so content is usually rated PG-13 with an occasional dip above “PG-17.” \nTICKETS HERE: https://www.eventbrite.com/e/monkey-business-comedy-show-grateful-shed-tickets-559717208237
URL:https://monkeybusinessinstitute.com/event/grown-up-show-the-grateful-shed/
LOCATION:The Grateful Shed\, 1470 Wisconsin Dells Pkwy\, Wisconsin Dells\, WI\, 53965\, United States
CATEGORIES:Shows,Shows
ATTACH;FMTTYPE=image/jpeg:https://monkeybusinessinstitute.com/wp-content/uploads/2023/03/327785972_490710146583905_5772419267946741867_n.jpg
END:VEVENT
END:VCALENDAR